BEGIN:VCALENDAR
VERSION:2.0
PRODID:-//wp-events-plugin.com//7.2.3.1//EN
TZID:Europe/Berlin
X-WR-TIMEZONE:Europe/Berlin
BEGIN:VEVENT
UID:0-12@wirtschaft-in-erlangen.de
DTSTART;TZID=Europe/Berlin:20240417T083000
DTEND;TZID=Europe/Berlin:20240418T150000
DTSTAMP:20240206T145444Z
URL:https://wirtschaft-in-erlangen.de/veranstaltungen/vocatium-erlangen/
SUMMARY:Vocatium Erlangen
DESCRIPTION:Fachmesse für Ausbildung+Studium\nQuelle: IfT Institut für Ta
 lententwicklung - vocatium Erlangen 2024
LOCATION:Heinrich-Lades-Halle\, Rathausplatz 1\, Erlangen\, Deutschland
X-APPLE-STRUCTURED-LOCATION;VALUE=URI;X-ADDRESS=Rathausplatz 1\, Erlangen\,
  Deutschland;X-APPLE-RADIUS=100;X-TITLE=Heinrich-Lades-Halle:geo:0,0
END:VEVENT
BEGIN:VTIMEZONE
TZID:Europe/Berlin
X-LIC-LOCATION:Europe/Berlin
BEGIN:DAYLIGHT
DTSTART:20240331T030000
TZOFFSETFROM:+0100
TZOFFSETTO:+0200
TZNAME:CEST
END:DAYLIGHT
END:VTIMEZONE
END:VCALENDAR