BEGIN:VCALENDAR
VERSION:2.0
PRODID:-//wp-events-plugin.com//7.2.3.1//EN
TZID:Europe/Berlin
X-WR-TIMEZONE:Europe/Berlin
BEGIN:VEVENT
UID:0-14@wirtschaft-in-erlangen.de
DTSTART;TZID=Europe/Berlin:20240617T170000
DTEND;TZID=Europe/Berlin:20240617T193000
DTSTAMP:20240521T091856Z
URL:https://wirtschaft-in-erlangen.de/veranstaltungen/kickoff-zu-erlangen-
 goes-ki/
SUMMARY:Kickoff zu Erlangen goes KI
DESCRIPTION:[fusion_builder_container type="flex" hundred_percent="no" equa
 l_height_columns="no" menu_anchor="" hide_on_mobile="small-visibility\,med
 ium-visibility\,large-visibility" class="" id="" background_color="" backg
 round_image="" background_position="center center" background_repeat="no-r
 epeat" fade="no" background_parallax="none" parallax_speed="0.3" video_mp4
 ="" video_webm="" video_ogv="" video_url="" video_aspect_ratio="16:9" vide
 o_loop="yes" video_mute="yes" overlay_color="" video_preview_image="" bord
 er_color="" border_style="solid" padding_top="" padding_bottom="" padding_
 left="" padding_right=""][fusion_builder_row][fusion_builder_column type="
 1_1" layout="1_1" background_position="left top" background_color="" borde
 r_color="" border_style="solid" border_position="all" spacing="yes" backgr
 ound_image="" background_repeat="no-repeat" padding_top="" padding_right="
 " padding_bottom="" padding_left="" margin_top="0px" margin_bottom="0px" c
 lass="" id="" animation_type="" animation_speed="0.3" animation_direction=
 "left" hide_on_mobile="small-visibility\,medium-visibility\,large-visibili
 ty" center_content="no" last="true" min_height="" hover_type="none" link="
 " border_sizes_top="" border_sizes_bottom="" border_sizes_left="" border_s
 izes_right="" first="true"][fusion_text]\n\nDas IHK-Gremium Erlangen hat s
 ich das Ziel gesetzt\, kleine und mittlere Unternehmen praxisnah an die K
 ünstliche Intelligenz heranzuführen. Der Kickoff richtet sich an die Unt
 ernehmensleitung. Angesprochen sind Unternehmen aus Erlangen und dem Landk
 reis Erlangen-Höchstadt.\n\nNeben dem unmittelbaren Informations- und Erf
 ahrungsaustausch wollen wir drei Aspekte besonders herausarbeiten:\n\n• 
 Transparenz in der Region: wer macht bereits was in Wirtschaft und Wissens
 chaft?\n• Welche Potenziale gibt es bei kleinen und mittleren Unternehme
 n und wie kann man vorgehen?\n• Welche Hilfestellungen können wir den U
 nternehmen anbieten?\n\nAn diesem Termin können Sie sich mit den Teilnehm
 ern austauschen und Ihre Erfahrungen diskutieren.\n\nDer Kickoff wird mode
 riert von Cornelia Mockwitz aus dem Vorstand des IHK-Gremiums Erlangen.\n\
 nANMELDUNG: https://www.ihk-nuernberg.de/v/6467\n\n[/fusion_text][/fusion_
 builder_column][/fusion_builder_row][/fusion_builder_container]
LOCATION:IHK-Geschäftsstelle Erlangen\, Henkestr. 91\, Erlangen\, 91052\, 
 Deutschland
X-APPLE-STRUCTURED-LOCATION;VALUE=URI;X-ADDRESS=Henkestr. 91\, Erlangen\, 9
 1052\, Deutschland;X-APPLE-RADIUS=100;X-TITLE=IHK-Geschäftsstelle Erlange
 n:geo:0,0
END:VEVENT
BEGIN:VTIMEZONE
TZID:Europe/Berlin
X-LIC-LOCATION:Europe/Berlin
BEGIN:DAYLIGHT
DTSTART:20240331T030000
TZOFFSETFROM:+0100
TZOFFSETTO:+0200
TZNAME:CEST
END:DAYLIGHT
END:VTIMEZONE
END:VCALENDAR