BEGIN:VCALENDAR
VERSION:2.0
PRODID:-//wp-events-plugin.com//7.2.3.1//EN
TZID:Europe/Berlin
X-WR-TIMEZONE:Europe/Berlin
BEGIN:VEVENT
UID:0-15@wirtschaft-in-erlangen.de
DTSTART;TZID=Europe/Berlin:20240611T090000
DTEND;TZID=Europe/Berlin:20240611T160000
DTSTAMP:20240516T080111Z
URL:https://wirtschaft-in-erlangen.de/veranstaltungen/beratungstag-rund-um
 -digitalisierung-und-kuenstliche-intelligenz-ki-im-landratsamt/
SUMMARY:Beratungstag rund um Digitalisierung und Künstliche Intelligenz (K
 I) im Landratsamt
DESCRIPTION:Das Landratsamt Erlangen-Höchstadt weist auf diesen Beratungst
 ag hin:\n\nDas Zukunftszentrum Süd bietet in Zusammenarbeit mit der Wirts
 chaftsförderung des Landkreises Erlangen-Höchstadt am Dienstag\, 11. Jun
 i 2024\, von 9 bis 16 Uhr\, einen Beratungstag rund um Digitalisierung und
  Künstliche Intelligenz (KI) im Landratsamt in Erlangen (Nägelsbachstra
 ße 1) an.\n\nInteressierte aus kleinen und mittleren Unternehmen aller Br
 anchen können sich in einem persönlichen Gespräch bis zu 45 Minuten unk
 ompliziert und kostenlos zu Themen rund um Digitalisierung und KI informie
 ren.\n\nTerminbuchung und weitere Informationen gibt es online unter: http
 s://zukunftszentrum-sued.de/ oder bei Marianne Weinhold\, Beraterin „Zuk
 unftszentrum-Süd“ beim Bildungswerk der Bayerischen Wirtschaft gGmbH\, 
 per E-Mail an marianne.weinhold@bbw.de oder telefonisch unter 01515 243 01
  65.
LOCATION:Landratsamt Erlangen-Höchstadt\, Nägelsbachstraße 1\, Erlangen\
 , 91052\, Deutschland
X-APPLE-STRUCTURED-LOCATION;VALUE=URI;X-ADDRESS=Nägelsbachstraße 1\, Erla
 ngen\, 91052\, Deutschland;X-APPLE-RADIUS=100;X-TITLE=Landratsamt Erlangen
 -Höchstadt:geo:0,0
END:VEVENT
BEGIN:VTIMEZONE
TZID:Europe/Berlin
X-LIC-LOCATION:Europe/Berlin
BEGIN:DAYLIGHT
DTSTART:20240331T030000
TZOFFSETFROM:+0100
TZOFFSETTO:+0200
TZNAME:CEST
END:DAYLIGHT
END:VTIMEZONE
END:VCALENDAR